BEGIN:VCALENDAR
VERSION:2.0
PRODID:-//DFW Craft Shows - ECPv6.15.17.1//NONSGML v1.0//EN
CALSCALE:GREGORIAN
METHOD:PUBLISH
X-WR-CALNAME:DFW Craft Shows
X-ORIGINAL-URL:https://teststaging.dfwcrafts.com
X-WR-CALDESC:Events for DFW Craft Shows
REFRESH-INTERVAL;VALUE=DURATION:PT1H
X-Robots-Tag:noindex
X-PUBLISHED-TTL:PT1H
BEGIN:VTIMEZONE
TZID:America/Chicago
BEGIN:DAYLIGHT
TZOFFSETFROM:-0600
TZOFFSETTO:-0500
TZNAME:CDT
DTSTART:20240310T080000
END:DAYLIGHT
BEGIN:STANDARD
TZOFFSETFROM:-0500
TZOFFSETTO:-0600
TZNAME:CST
DTSTART:20241103T070000
END:STANDARD
BEGIN:DAYLIGHT
TZOFFSETFROM:-0600
TZOFFSETTO:-0500
TZNAME:CDT
DTSTART:20250309T080000
END:DAYLIGHT
BEGIN:STANDARD
TZOFFSETFROM:-0500
TZOFFSETTO:-0600
TZNAME:CST
DTSTART:20251102T070000
END:STANDARD
BEGIN:DAYLIGHT
TZOFFSETFROM:-0600
TZOFFSETTO:-0500
TZNAME:CDT
DTSTART:20260308T080000
END:DAYLIGHT
BEGIN:STANDARD
TZOFFSETFROM:-0500
TZOFFSETTO:-0600
TZNAME:CST
DTSTART:20261101T070000
END:STANDARD
END:VTIMEZONE
BEGIN:VEVENT
DTSTART;TZID=America/Chicago:20251120T153000
DTEND;TZID=America/Chicago:20251120T193000
DTSTAMP:20260420T113448
CREATED:20251014T025259Z
LAST-MODIFIED:20251014T025259Z
UID:10001931-1763652600-1763667000@teststaging.dfwcrafts.com
SUMMARY:25th Annual Stop 'n' Shop
DESCRIPTION:Plum Creek Elementary School hosts an annual Stop ‘n’ Shop for the community every year on the Thursday before Thanksgiving. This fundraiser is a vendor event in Joshua\, Texas. Shop with all your favorite companies\, crafters\, gift options\, food & entertainment. We’re collecting non-perishable food items for Salvation Army & our area food bank. Our student clubs will have tables with info about their groups and activities. Come join us for a fun evening.
URL:https://teststaging.dfwcrafts.com/event/annual-stop-n-shop/
LOCATION:Plum Creek Elementary School\, 500 Plum Street\, Joshua\, TX\, 76058\, United States
CATEGORIES:General Arts & Crafts
GEO:32.4441246;-97.3822152
X-APPLE-STRUCTURED-LOCATION;VALUE=URI;X-ADDRESS=Plum Creek Elementary School 500 Plum Street Joshua TX 76058 United States;X-APPLE-RADIUS=500;X-TITLE=500 Plum Street:geo:-97.3822152,32.4441246
END:VEVENT
BEGIN:VEVENT
DTSTART;TZID=America/Chicago:20251120T160000
DTEND;TZID=America/Chicago:20251120T200000
DTSTAMP:20260420T113448
CREATED:20251026T194252Z
LAST-MODIFIED:20251026T195004Z
UID:10001954-1763654400-1763668800@teststaging.dfwcrafts.com
SUMMARY:Holiday Kickoff Business Expo
DESCRIPTION:Holiday Kickoff Business Expo\nHosted by the Grand Prairie Chamber of Commerce \nJoin us as we kick off the holiday season at the Holiday Kickoff Business Expo — a festive and family-friendly community event! Discover local businesses\, enjoy holiday-themed fun\, and connect with your neighbors\, all in one exciting evening. \n🎁 Free Admission – Open to the entire community!
URL:https://teststaging.dfwcrafts.com/event/holiday-kickoff-business-expo/
LOCATION:Texas Trust CU Theatre\, 1001 Performance Place\, Grand Prairie\, TX\, 75050\, United States
CATEGORIES:General Arts & Crafts
GEO:32.7668447;-96.982376
X-APPLE-STRUCTURED-LOCATION;VALUE=URI;X-ADDRESS=Texas Trust CU Theatre 1001 Performance Place Grand Prairie TX 75050 United States;X-APPLE-RADIUS=500;X-TITLE=1001 Performance Place:geo:-96.982376,32.7668447
END:VEVENT
END:VCALENDAR