BEGIN:VCALENDAR
VERSION:2.0
PRODID:-//DFW Craft Shows - ECPv6.15.17.1//NONSGML v1.0//EN
CALSCALE:GREGORIAN
METHOD:PUBLISH
X-WR-CALNAME:DFW Craft Shows
X-ORIGINAL-URL:https://teststaging.dfwcrafts.com
X-WR-CALDESC:Events for DFW Craft Shows
REFRESH-INTERVAL;VALUE=DURATION:PT1H
X-Robots-Tag:noindex
X-PUBLISHED-TTL:PT1H
BEGIN:VTIMEZONE
TZID:America/Chicago
BEGIN:DAYLIGHT
TZOFFSETFROM:-0600
TZOFFSETTO:-0500
TZNAME:CDT
DTSTART:20240310T080000
END:DAYLIGHT
BEGIN:STANDARD
TZOFFSETFROM:-0500
TZOFFSETTO:-0600
TZNAME:CST
DTSTART:20241103T070000
END:STANDARD
BEGIN:DAYLIGHT
TZOFFSETFROM:-0600
TZOFFSETTO:-0500
TZNAME:CDT
DTSTART:20250309T080000
END:DAYLIGHT
BEGIN:STANDARD
TZOFFSETFROM:-0500
TZOFFSETTO:-0600
TZNAME:CST
DTSTART:20251102T070000
END:STANDARD
BEGIN:DAYLIGHT
TZOFFSETFROM:-0600
TZOFFSETTO:-0500
TZNAME:CDT
DTSTART:20260308T080000
END:DAYLIGHT
BEGIN:STANDARD
TZOFFSETFROM:-0500
TZOFFSETTO:-0600
TZNAME:CST
DTSTART:20261101T070000
END:STANDARD
END:VTIMEZONE
BEGIN:VEVENT
DTSTART;TZID=America/Chicago:20251121T100000
DTEND;TZID=America/Chicago:20251122T160000
DTSTAMP:20260420T113450
CREATED:20250911T021956Z
LAST-MODIFIED:20250911T021956Z
UID:10001867-1763719200-1763827200@teststaging.dfwcrafts.com
SUMMARY:Boerne Handmade Market
DESCRIPTION:The Largest Handmade Market in South Texas \nDiscover a one-of-a-kind shopping experience where creativity and craftsmanship come to life! With over 70 makers under one roof\, you’ll find everything from stylish jewelry\, trendy apparel\, and timeless leather goods to woodwork\, stunning home décor\, original artwork\, and more. Indulge your senses with hand-poured candles\, delicious food items\, and delightful bath and body products—all lovingly crafted by local artisans. \nWhether you’re hunting for the perfect gift\, treating yourself to something special\, or simply enjoying a day out with family and friends\, the Boerne Handmade Market is the ultimate destination for unique finds you won’t see anywhere else. \nTwo VIP Shopping Events – Friday\, November 21st!\nKick off market weekend in style with your choice of VIP Morning (10:00 AM – 1:30 PM) or VIP Evening (5:30 PM – 9:30 PM). Your $25 VIP ticket comes packed with perks: a swag bag bursting with freebies and coupons from our makers\, a sweet treat\, two drink tickets\, exclusive early-access shopping\, and tasty snack stations to keep you fueled while you shop. \nSaturday\, November 22nd – Open to All!\nJoin us for a full day of shopping from 9:00 AM – 4:00 PM for just $5 entry. Plus\, the first 200 shoppers through the door will snag a free tote bag to carry home all their handmade treasures! \nFamily Friendly: Kids 12 and under always get in free at both events!
URL:https://teststaging.dfwcrafts.com/event/boerne-handmade-fall-market/
LOCATION:nineteen:ten church\, 130 Sisterdale Road\, Boerne\, TX\, 78006\, United States
CATEGORIES:Handmade Only
ATTACH;FMTTYPE=image/jpeg:https://teststaging.dfwcrafts.com/wp-content/uploads/2025/09/DFW-Boerne-1.jpg
GEO:29.8287602;-98.738384
X-APPLE-STRUCTURED-LOCATION;VALUE=URI;X-ADDRESS=nineteen:ten church 130 Sisterdale Road Boerne TX 78006 United States;X-APPLE-RADIUS=500;X-TITLE=130 Sisterdale Road:geo:-98.738384,29.8287602
END:VEVENT
BEGIN:VEVENT
DTSTART;TZID=America/Chicago:20251121T190000
DTEND;TZID=America/Chicago:20251123T180000
DTSTAMP:20260420T113450
CREATED:20251118T055126Z
LAST-MODIFIED:20251118T055126Z
UID:10001978-1763751600-1763920800@teststaging.dfwcrafts.com
SUMMARY:Art Mart
DESCRIPTION:November 21-23\, 2025 \nPreview Reception & Sale: Friday\, November 21 (7-9 PM)\nSale Continues: Saturday and Sunday\, November 22 & 23 (12-6 PM) \nExperience the joy of creativity at our annual art sale\, Art Mart! \nJoin us November 21–23 for a vibrant showcase of original works in a wide variety of media by talented local and regional artists. This is the perfect chance to kick off your holiday shopping and discover one-of-a-kind gifts for yourself and your loved ones—all while celebrating and supporting our local arts community. \nWhen you attend Art Mart\, you’re not just purchasing beautiful\, original art—you’re directly supporting the artists who make it possible and helping sustain their creative journeys. Your participation also benefits the Friends of the Bath House\, an organization devoted to strengthening and enriching the arts programs at the Bath House Cultural Center.\nIt’s a win-win celebration of art\, creativity\, and community! \nARTISTS:\nVasfie Abderafi\, Sally Ackerman & Lisa Payne\, Tatyana Alanis\, Alex Martinez\, Shafkat Anowar\, Cindy Bagwell\, Katherine Baronet\, Martha Boles\, Kathryn Boulet\, Thomas Braley\, Dana Brock\, Seema Christensen\, Dan Collins\, Gail Delger\, Dan Dudley & Lori Dudley\, Mariah Fournier\, Mary Frei\, Pastor Garcia\, Jay Gardner\, Essie Graham\, Valery Guignon\, Deana Hinchcliff\, Laurie Huff\, Sigrun Hukill\, Cindy Ingram\, Cheryl Johnson\, Cindy E. Kelley\, Leslie Kregel\, Emily Lamberty\, Sarah Landreau\, Rebecca Lansdowne-Collins\, Brenda McKinney\, Elaine Michaels\, Sabine Michaels\, & Andy Michaels\, Cicely Miller\, Jo Moncrief\, Kimberley Morris\, Carlos Newland\, Cortney Pace\, Pavlina Panova\, Cynthia Pater\, Freddie M. Polk\, Lily Pon\, Beth Ritter-Perry\, Eryn Rosenbaum\, Ivana Salas\, Chesley Smith\, Olivia Snyder\, Ashley Staggs\, Laidric Stevenson\, Eric Sweeney\, Terri Thoman\, VET\, Frances Webb\, and Karen Weiss. \nMore details at the website linked below.
URL:https://teststaging.dfwcrafts.com/event/art-mart/
LOCATION:Bath House Cultural Center\, 521 E Lawther Dr\, Dallas\, TX\, 75218\, United States
CATEGORIES:General Arts & Crafts
GEO:32.8408257;-96.7154166
X-APPLE-STRUCTURED-LOCATION;VALUE=URI;X-ADDRESS=Bath House Cultural Center 521 E Lawther Dr Dallas TX 75218 United States;X-APPLE-RADIUS=500;X-TITLE=521 E Lawther Dr:geo:-96.7154166,32.8408257
END:VEVENT
END:VCALENDAR