BEGIN:VCALENDAR
VERSION:2.0
PRODID:-//DFW Craft Shows - ECPv6.15.17.1//NONSGML v1.0//EN
CALSCALE:GREGORIAN
METHOD:PUBLISH
X-ORIGINAL-URL:https://teststaging.dfwcrafts.com
X-WR-CALDESC:Events for DFW Craft Shows
REFRESH-INTERVAL;VALUE=DURATION:PT1H
X-Robots-Tag:noindex
X-PUBLISHED-TTL:PT1H
BEGIN:VTIMEZONE
TZID:America/Chicago
BEGIN:DAYLIGHT
TZOFFSETFROM:-0600
TZOFFSETTO:-0500
TZNAME:CDT
DTSTART:20240310T080000
END:DAYLIGHT
BEGIN:STANDARD
TZOFFSETFROM:-0500
TZOFFSETTO:-0600
TZNAME:CST
DTSTART:20241103T070000
END:STANDARD
BEGIN:DAYLIGHT
TZOFFSETFROM:-0600
TZOFFSETTO:-0500
TZNAME:CDT
DTSTART:20250309T080000
END:DAYLIGHT
BEGIN:STANDARD
TZOFFSETFROM:-0500
TZOFFSETTO:-0600
TZNAME:CST
DTSTART:20251102T070000
END:STANDARD
BEGIN:DAYLIGHT
TZOFFSETFROM:-0600
TZOFFSETTO:-0500
TZNAME:CDT
DTSTART:20260308T080000
END:DAYLIGHT
BEGIN:STANDARD
TZOFFSETFROM:-0500
TZOFFSETTO:-0600
TZNAME:CST
DTSTART:20261101T070000
END:STANDARD
END:VTIMEZONE
BEGIN:VEVENT
DTSTART;TZID=America/Chicago:20251125T100000
DTEND;TZID=America/Chicago:20251125T150000
DTSTAMP:20260420T100254
CREATED:20251017T004927Z
LAST-MODIFIED:20251019T044449Z
UID:10001935-1764064800-1764082800@teststaging.dfwcrafts.com
SUMMARY:Local Good Coffee Co. Block Party
DESCRIPTION:Local Good Coffee Co. is excited to host our Fall into Winter Block Party! \nJoin us for a day full of fun with bounce houses and yard games for the kids\, live music\, and local vendors to help you get ready for the holiday season. Plus\, enjoy all the things you already love about Local Good Coffee Co.—pickleball\, the playground\, volleyball\, basketball\, and of course\, amazing coffee.
URL:https://teststaging.dfwcrafts.com/event/local-good-coffee-co/
LOCATION:Local Good Coffee Co.\, 201 Legacy Dr\, Plano\, TX\, 75023\, United States
CATEGORIES:General Arts & Crafts
GEO:33.0687775;-96.693633
X-APPLE-STRUCTURED-LOCATION;VALUE=URI;X-ADDRESS=Local Good Coffee Co. 201 Legacy Dr Plano TX 75023 United States;X-APPLE-RADIUS=500;X-TITLE=201 Legacy Dr:geo:-96.693633,33.0687775
END:VEVENT
END:VCALENDAR