BEGIN:VCALENDAR
VERSION:2.0
PRODID:-//DFW Craft Shows - ECPv6.15.17.1//NONSGML v1.0//EN
CALSCALE:GREGORIAN
METHOD:PUBLISH
X-ORIGINAL-URL:https://teststaging.dfwcrafts.com
X-WR-CALDESC:Events for DFW Craft Shows
REFRESH-INTERVAL;VALUE=DURATION:PT1H
X-Robots-Tag:noindex
X-PUBLISHED-TTL:PT1H
BEGIN:VTIMEZONE
TZID:America/Chicago
BEGIN:DAYLIGHT
TZOFFSETFROM:-0600
TZOFFSETTO:-0500
TZNAME:CDT
DTSTART:20250309T080000
END:DAYLIGHT
BEGIN:STANDARD
TZOFFSETFROM:-0500
TZOFFSETTO:-0600
TZNAME:CST
DTSTART:20251102T070000
END:STANDARD
BEGIN:DAYLIGHT
TZOFFSETFROM:-0600
TZOFFSETTO:-0500
TZNAME:CDT
DTSTART:20260308T080000
END:DAYLIGHT
BEGIN:STANDARD
TZOFFSETFROM:-0500
TZOFFSETTO:-0600
TZNAME:CST
DTSTART:20261101T070000
END:STANDARD
BEGIN:DAYLIGHT
TZOFFSETFROM:-0600
TZOFFSETTO:-0500
TZNAME:CDT
DTSTART:20270314T080000
END:DAYLIGHT
BEGIN:STANDARD
TZOFFSETFROM:-0500
TZOFFSETTO:-0600
TZNAME:CST
DTSTART:20271107T070000
END:STANDARD
END:VTIMEZONE
BEGIN:VEVENT
DTSTART;TZID=America/Chicago:20260228T090000
DTEND;TZID=America/Chicago:20260228T130000
DTSTAMP:20260419T235646
CREATED:20260226T063552Z
LAST-MODIFIED:20260226T063552Z
UID:10002059-1772269200-1772283600@teststaging.dfwcrafts.com
SUMMARY:Denton Community Market
DESCRIPTION:Join us this weekend for the Black History Month Celebration featuring Lady Cass & The Fellas performing live\, alongside some of Texas’ finest vendors. #dentoncommunitymarket #Texas #BlackHistoryMonth #blackhistory #blackexcellence
URL:https://teststaging.dfwcrafts.com/event/denton-community-market-2/
LOCATION:Denton Community Market\, 317 W Mulberry St\, Denton\, TX\, 76201\, United States
CATEGORIES:General Arts & Crafts
GEO:33.2131268;-97.1360629
X-APPLE-STRUCTURED-LOCATION;VALUE=URI;X-ADDRESS=Denton Community Market 317 W Mulberry St Denton TX 76201 United States;X-APPLE-RADIUS=500;X-TITLE=317 W Mulberry St:geo:-97.1360629,33.2131268
END:VEVENT
BEGIN:VEVENT
DTSTART;TZID=America/Chicago:20260228T090000
DTEND;TZID=America/Chicago:20260301T160000
DTSTAMP:20260419T235646
CREATED:20251228T055705Z
LAST-MODIFIED:20260106T043819Z
UID:10001991-1772269200-1772380800@teststaging.dfwcrafts.com
SUMMARY:3rd Annual Arlington High School Band Craft Fair
DESCRIPTION:The Arlington High School Band Craft Show will return next spring on Saturday\, February 28\, 2026\, from 9:00 AM to 5:00 PM\, and Sunday\, March 1\, 2026\, from 12:00 PM to 4:00 PM.\nThis two‑day event will feature an impressive selection of arts\, crafts\, and treats for attendees of all ages. \nWe are excited to announce a new location for this year’s event—Gyms A and B\, with entry accessible from Cooper Street. This updated layout brings our vendors and bake sale closer together\, creating a more seamless and enjoyable experience for all visitors. \nWe are also pleased to introduce food trucks as a new addition this year\, offering guests even more dining options throughout the event. \nAdmission:\n* Adults: $3.00\n* Children: $1.00\n* Children Under 2 Years Old: Free\n* AISD Employees: Free with ID
URL:https://teststaging.dfwcrafts.com/event/ahs-colt-band-craft-fair/
LOCATION:Arlington High School\, 818 W Park Row Dr.\, Arlington\, TX\, 76013\, United States
CATEGORIES:General Arts & Crafts
ATTACH;FMTTYPE=image/jpeg:https://teststaging.dfwcrafts.com/wp-content/uploads/2025/12/2026FlyerJPEG.jpg
GEO:32.7207573;-97.1169876
X-APPLE-STRUCTURED-LOCATION;VALUE=URI;X-ADDRESS=Arlington High School 818 W Park Row Dr. Arlington TX 76013 United States;X-APPLE-RADIUS=500;X-TITLE=818 W Park Row Dr.:geo:-97.1169876,32.7207573
END:VEVENT
BEGIN:VEVENT
DTSTART;TZID=America/Chicago:20260228T130000
DTEND;TZID=America/Chicago:20260228T180000
DTSTAMP:20260419T235646
CREATED:20260201T070817Z
LAST-MODIFIED:20260201T070847Z
UID:10002028-1772283600-1772301600@teststaging.dfwcrafts.com
SUMMARY:Brewiversary Makers Market
DESCRIPTION:Bankhead Brewpub is celebrating their 2‑Year Anniversary\, and they’ve invited The Usual Artspects to join the festivities by hosting a vibrant\, creativity‑filled Makers Market on Saturday\, February 28\, 2026 in Farmers Branch\, TX. \nEvent Highlights:\n• A bustling anniversary crowd\n• Live music\n• Food & drink specials\n• Raffles and festive energy\n• A supportive\, community‑centered market atmosphere
URL:https://teststaging.dfwcrafts.com/event/usual-artspects-market-5/
LOCATION:Bankhead Brewpub – Farmers Branch\, 13090 Bee St.\, Farmers Branch\, TX\, 75234\, United States
CATEGORIES:Handmade Only
ATTACH;FMTTYPE=image/jpeg:https://teststaging.dfwcrafts.com/wp-content/uploads/2026/02/Anniversary-Party-26-Opt.jpg
GEO:32.9236488;-96.8955369
X-APPLE-STRUCTURED-LOCATION;VALUE=URI;X-ADDRESS=Bankhead Brewpub – Farmers Branch 13090 Bee St. Farmers Branch TX 75234 United States;X-APPLE-RADIUS=500;X-TITLE=13090 Bee St.:geo:-96.8955369,32.9236488
END:VEVENT
BEGIN:VEVENT
DTSTART;TZID=America/Chicago:20260228T180000
DTEND;TZID=America/Chicago:20260228T200000
DTSTAMP:20260419T235646
CREATED:20260226T063808Z
LAST-MODIFIED:20260226T063808Z
UID:10002060-1772301600-1772308800@teststaging.dfwcrafts.com
SUMMARY:Night Shift
DESCRIPTION:The Goldmark Cultural Center’s John H. Milde Gallery is proud to present “Night Shift”\, a group exhibition of works by 22 selected nighttime artists of the Goldmark artist community and Dallas artist community\, curated by Goldmark artist Raymond Butler. \nThe exhibition is on display from 16 February 2026 to 27 March 2026\, with a reception on Saturday\, 28 February\, from 6:00pm – 8:00pm. \nAbout the Exhibition\nThe Night Shift exhibition explores the creative energy that emerges after dark\, during the hours when most of the world is asleep and silence takes over. It reflects a type of making that exists outside the traditional nine to five\, where artists find clarity\, focus\, and freedom in the stillness of midnight. For these artists\, the night is an uninterrupted space where ideas expand and distractions fade. \nThis exhibition features resident artists from the Goldmark artist community\, alongside members of the Dallas art community\, who primarily create during the late-night hours. The show brings together a wide range of mediums\, including painting\, sculpture\, found object\, mixed media\, fibers\, 3-D printing\, and drawing. \nFeatured Artists:\nApril Soncrant\nSameera Butt\nAbi Dyer\nRoberto Garza\nJon Doumecq\nTalbot Boulter\nParker Turney\nYohana Tecleab\nJoey Torrescano\nLydia Yost\nRaymond Butler\nBemnet Aragaw\nSarah Heng\nMichael Guerra\nDanny Peterson\nBarbara Jones\nBlair Duran\nNathan Ross\nClaire Crosby\nAlec De Jesus\nEstefania Leal\nJohn Haire \nAbout the curator:\nRaymond Butler is a multidisciplinary artist whose work revisits his childhood growing up in South Dallas in the 90s. Each piece is a snapshot of the small moments food\, cartoons\, neighborhood adventures\, and family challenges that shaped how he saw the world. Through vibrant color and playful exaggerated imagery\, he recreates the humor and survival of those years. Every artwork is a different memory and story but all of them come from the same place.
URL:https://teststaging.dfwcrafts.com/event/goldmark/
LOCATION:Goldmark Cultural Center\, 13999 Goldmark Dr\, Dallas\, TX\, 75240\, United States
CATEGORIES:Fine Arts Only
GEO:32.9385847;-96.7524939
X-APPLE-STRUCTURED-LOCATION;VALUE=URI;X-ADDRESS=Goldmark Cultural Center 13999 Goldmark Dr Dallas TX 75240 United States;X-APPLE-RADIUS=500;X-TITLE=13999 Goldmark Dr:geo:-96.7524939,32.9385847
END:VEVENT
END:VCALENDAR