BEGIN:VCALENDAR
VERSION:2.0
PRODID:-//DFW Craft Shows - ECPv6.15.17.1//NONSGML v1.0//EN
CALSCALE:GREGORIAN
METHOD:PUBLISH
X-ORIGINAL-URL:https://teststaging.dfwcrafts.com
X-WR-CALDESC:Events for DFW Craft Shows
REFRESH-INTERVAL;VALUE=DURATION:PT1H
X-Robots-Tag:noindex
X-PUBLISHED-TTL:PT1H
BEGIN:VTIMEZONE
TZID:America/Chicago
BEGIN:DAYLIGHT
TZOFFSETFROM:-0600
TZOFFSETTO:-0500
TZNAME:CDT
DTSTART:20250309T080000
END:DAYLIGHT
BEGIN:STANDARD
TZOFFSETFROM:-0500
TZOFFSETTO:-0600
TZNAME:CST
DTSTART:20251102T070000
END:STANDARD
BEGIN:DAYLIGHT
TZOFFSETFROM:-0600
TZOFFSETTO:-0500
TZNAME:CDT
DTSTART:20260308T080000
END:DAYLIGHT
BEGIN:STANDARD
TZOFFSETFROM:-0500
TZOFFSETTO:-0600
TZNAME:CST
DTSTART:20261101T070000
END:STANDARD
BEGIN:DAYLIGHT
TZOFFSETFROM:-0600
TZOFFSETTO:-0500
TZNAME:CDT
DTSTART:20270314T080000
END:DAYLIGHT
BEGIN:STANDARD
TZOFFSETFROM:-0500
TZOFFSETTO:-0600
TZNAME:CST
DTSTART:20271107T070000
END:STANDARD
END:VTIMEZONE
BEGIN:VEVENT
DTSTART;TZID=America/Chicago:20260322T103000
DTEND;TZID=America/Chicago:20260322T170000
DTSTAMP:20260419T173416
CREATED:20260110T060734Z
LAST-MODIFIED:20260110T060734Z
UID:10002001-1774175400-1774198800@teststaging.dfwcrafts.com
SUMMARY:Hello Spring Craft & Wellness Market
DESCRIPTION:🌸 Hello Spring Craft & Wellness Market 🌸 \nCelebrate the season of renewal at the Hello Spring Craft & Wellness Market! Discover a vibrant mix of local artisans\, handmade goods\, and wellness offerings all in one inspiring space. From unique crafts and creative treasures to holistic products and self-care essentials\, there’s something for everyone to enjoy. Come shop\, explore\, and support small businesses while embracing the energy of spring! \n🩵WITH LIVE MUSIC🩵\nOVER 50+ VENDORS\nFREE ENTRY \nFrom handmade jewelry\, unique art\, and creative crafts to crystals\, aromatherapy\, and hands-on wellness tools\, every corner of the market is designed to inspire\, educate\, and uplift. \nThis event beautifully blends creativity and wellness\, giving attendees the chance to connect with talented artisans\, discover one-of-a-kind treasures\, and immerse themselves in a vibrant\, supportive atmosphere. \nWhether you’re looking to refresh your space\, elevate your self-care routine\, or explore new wellness practices\, the Hello Spring Craft & Wellness Market is the perfect way to welcome the season feeling energized\, inspired\, and ready for what lies ahead. Don’t miss this unique and uplifting experience! \n 
URL:https://teststaging.dfwcrafts.com/event/wellness-craft-market-2/
LOCATION:Dallas Events Center\, 4343 Sigma Road\, Farmers Branch\, TX\, 75240\, United States
CATEGORIES:General Arts & Crafts
ATTACH;FMTTYPE=image/jpeg:https://teststaging.dfwcrafts.com/wp-content/uploads/2026/01/Hello-Spring-2026-Opt.jpg
GEO:32.9376471;-96.8356024
X-APPLE-STRUCTURED-LOCATION;VALUE=URI;X-ADDRESS=Dallas Events Center 4343 Sigma Road Farmers Branch TX 75240 United States;X-APPLE-RADIUS=500;X-TITLE=4343 Sigma Road:geo:-96.8356024,32.9376471
END:VEVENT
BEGIN:VEVENT
DTSTART;TZID=America/Chicago:20260322T120000
DTEND;TZID=America/Chicago:20260322T160000
DTSTAMP:20260419T173416
CREATED:20260308T064946Z
LAST-MODIFIED:20260308T064946Z
UID:10002072-1774180800-1774195200@teststaging.dfwcrafts.com
SUMMARY:2026 Spring Assisted Outpatient Treatment Market
DESCRIPTION:Support Denton County MHMR Center by supporting small businesses at our 2026 Spring Assisted Outpatient Treatment Market! A variety of vendors from Denton and beyond will be selling a variety of goods\, from homemade foods to handmade decor and more! The fundraiser market will take place on March 22nd from 12pm to 4pm in the parking lot of the Denton County MHMR office located at 2519 Scripture St.
URL:https://teststaging.dfwcrafts.com/event/mhmr-market/
LOCATION:Denton County MHMR Center\, 2519 Scripture St\, Denton\, TX\, 76201\, United States
CATEGORIES:General Arts & Crafts
GEO:33.2182973;-97.1649599
X-APPLE-STRUCTURED-LOCATION;VALUE=URI;X-ADDRESS=Denton County MHMR Center 2519 Scripture St Denton TX 76201 United States;X-APPLE-RADIUS=500;X-TITLE=2519 Scripture St:geo:-97.1649599,33.2182973
END:VEVENT
END:VCALENDAR