BEGIN:VCALENDAR
VERSION:2.0
PRODID:-//DFW Craft Shows - ECPv6.15.17.1//NONSGML v1.0//EN
CALSCALE:GREGORIAN
METHOD:PUBLISH
X-WR-CALNAME:DFW Craft Shows
X-ORIGINAL-URL:https://teststaging.dfwcrafts.com
X-WR-CALDESC:Events for DFW Craft Shows
REFRESH-INTERVAL;VALUE=DURATION:PT1H
X-Robots-Tag:noindex
X-PUBLISHED-TTL:PT1H
BEGIN:VTIMEZONE
TZID:America/Chicago
BEGIN:DAYLIGHT
TZOFFSETFROM:-0600
TZOFFSETTO:-0500
TZNAME:CDT
DTSTART:20250309T080000
END:DAYLIGHT
BEGIN:STANDARD
TZOFFSETFROM:-0500
TZOFFSETTO:-0600
TZNAME:CST
DTSTART:20251102T070000
END:STANDARD
BEGIN:DAYLIGHT
TZOFFSETFROM:-0600
TZOFFSETTO:-0500
TZNAME:CDT
DTSTART:20260308T080000
END:DAYLIGHT
BEGIN:STANDARD
TZOFFSETFROM:-0500
TZOFFSETTO:-0600
TZNAME:CST
DTSTART:20261101T070000
END:STANDARD
BEGIN:DAYLIGHT
TZOFFSETFROM:-0600
TZOFFSETTO:-0500
TZNAME:CDT
DTSTART:20270314T080000
END:DAYLIGHT
BEGIN:STANDARD
TZOFFSETFROM:-0500
TZOFFSETTO:-0600
TZNAME:CST
DTSTART:20271107T070000
END:STANDARD
END:VTIMEZONE
BEGIN:VEVENT
DTSTART;TZID=America/Chicago:20260704T170000
DTEND;TZID=America/Chicago:20260704T223000
DTSTAMP:20260419T212932
CREATED:20260222T073456Z
LAST-MODIFIED:20260222T073456Z
UID:10002055-1783184400-1783204200@teststaging.dfwcrafts.com
SUMMARY:Flower Mound Independence Fest
DESCRIPTION:Saturday evening celebrating 250 years of our great country. This festival will include top not music\, food vendors\, art/business vendors\, a kids zone\, and car show – all free to the public.
URL:https://teststaging.dfwcrafts.com/event/independence-fest/
LOCATION:Bakersfield Park\, 1201 Duncan Ln\, Flower Mound\, TX\, 75028\, United States
CATEGORIES:General Arts & Crafts
GEO:33.0026822;-97.0303542
X-APPLE-STRUCTURED-LOCATION;VALUE=URI;X-ADDRESS=Bakersfield Park 1201 Duncan Ln Flower Mound TX 75028 United States;X-APPLE-RADIUS=500;X-TITLE=1201 Duncan Ln:geo:-97.0303542,33.0026822
END:VEVENT
END:VCALENDAR