BEGIN:VCALENDAR
VERSION:2.0
PRODID:-//DFW Craft Shows - ECPv6.15.17.1//NONSGML v1.0//EN
CALSCALE:GREGORIAN
METHOD:PUBLISH
X-ORIGINAL-URL:https://teststaging.dfwcrafts.com
X-WR-CALDESC:Events for DFW Craft Shows
REFRESH-INTERVAL;VALUE=DURATION:PT1H
X-Robots-Tag:noindex
X-PUBLISHED-TTL:PT1H
BEGIN:VTIMEZONE
TZID:America/Chicago
BEGIN:DAYLIGHT
TZOFFSETFROM:-0600
TZOFFSETTO:-0500
TZNAME:CDT
DTSTART:20250309T080000
END:DAYLIGHT
BEGIN:STANDARD
TZOFFSETFROM:-0500
TZOFFSETTO:-0600
TZNAME:CST
DTSTART:20251102T070000
END:STANDARD
BEGIN:DAYLIGHT
TZOFFSETFROM:-0600
TZOFFSETTO:-0500
TZNAME:CDT
DTSTART:20260308T080000
END:DAYLIGHT
BEGIN:STANDARD
TZOFFSETFROM:-0500
TZOFFSETTO:-0600
TZNAME:CST
DTSTART:20261101T070000
END:STANDARD
BEGIN:DAYLIGHT
TZOFFSETFROM:-0600
TZOFFSETTO:-0500
TZNAME:CDT
DTSTART:20270314T080000
END:DAYLIGHT
BEGIN:STANDARD
TZOFFSETFROM:-0500
TZOFFSETTO:-0600
TZNAME:CST
DTSTART:20271107T070000
END:STANDARD
END:VTIMEZONE
BEGIN:VEVENT
DTSTART;TZID=America/Chicago:20261017T090000
DTEND;TZID=America/Chicago:20261017T160000
DTSTAMP:20260420T034025
CREATED:20260123T030942Z
LAST-MODIFIED:20260123T030942Z
UID:10002010-1792227600-1792252800@teststaging.dfwcrafts.com
SUMMARY:Shopping Days Vendor Market - Christmas Edition in Cleburne
DESCRIPTION:Shop small and support local at the Shopping Days Vendor Market! 🛍️ \nA community-driven vendor market featuring local small businesses\, handmade goods\, unique finds\, music\, and giveaways. Family-friendly\, outdoor\, and free admission. \nHosted by Paola Ruiz Productions.
URL:https://teststaging.dfwcrafts.com/event/shopping-days-vendor-market-7/
LOCATION:Cleburne Conference Center\, 1501 W Henderson St.\, Cleburne\, TX\, 76033\, United States
CATEGORIES:General Arts & Crafts
ATTACH;FMTTYPE=image/jpeg:https://teststaging.dfwcrafts.com/wp-content/uploads/2026/01/Shopping-Days-Cleburne-2026_Opt.jpg
GEO:32.3396792;-97.4089913
X-APPLE-STRUCTURED-LOCATION;VALUE=URI;X-ADDRESS=Cleburne Conference Center 1501 W Henderson St. Cleburne TX 76033 United States;X-APPLE-RADIUS=500;X-TITLE=1501 W Henderson St.:geo:-97.4089913,32.3396792
END:VEVENT
BEGIN:VEVENT
DTSTART;TZID=America/Chicago:20261017T100000
DTEND;TZID=America/Chicago:20261017T140000
DTSTAMP:20260420T034025
CREATED:20260325T225124Z
LAST-MODIFIED:20260325T225254Z
UID:10002103-1792231200-1792245600@teststaging.dfwcrafts.com
SUMMARY:DFW Fall Fest 2026 at Frisco Fresh Market
DESCRIPTION:DFW Fall Fest 2026 at Frisco Fresh Market \nCelebrate fall with the whole family at DFW Fall Fest 2026 at Frisco Fresh Market! Enjoy a fun-filled day featuring family-friendly vendors\, kids activities\, seasonal photo opportunities\, and local businesses serving the Dallas–Fort Worth community. It’s a great opportunity to discover camps\, programs\, and activities for kids while enjoying food and shopping at the vibrant Frisco Fresh Market. \nFree admission. Reserve your free tickets online.
URL:https://teststaging.dfwcrafts.com/event/dfw-fall-fest/
LOCATION:Frisco Fresh Market\, 9215 John W. Elliott Dr\, Frisco\, TX\, 75034\, United States
CATEGORIES:General Arts & Crafts
GEO:33.1545357;-96.8304005
X-APPLE-STRUCTURED-LOCATION;VALUE=URI;X-ADDRESS=Frisco Fresh Market 9215 John W. Elliott Dr Frisco TX 75034 United States;X-APPLE-RADIUS=500;X-TITLE=9215 John W. Elliott Dr:geo:-96.8304005,33.1545357
END:VEVENT
END:VCALENDAR