BEGIN:VCALENDAR
VERSION:2.0
PRODID:-//DFW Craft Shows - ECPv6.15.17.1//NONSGML v1.0//EN
CALSCALE:GREGORIAN
METHOD:PUBLISH
X-ORIGINAL-URL:https://teststaging.dfwcrafts.com
X-WR-CALDESC:Events for DFW Craft Shows
REFRESH-INTERVAL;VALUE=DURATION:PT1H
X-Robots-Tag:noindex
X-PUBLISHED-TTL:PT1H
BEGIN:VTIMEZONE
TZID:America/Chicago
BEGIN:DAYLIGHT
TZOFFSETFROM:-0600
TZOFFSETTO:-0500
TZNAME:CDT
DTSTART:20270314T080000
END:DAYLIGHT
BEGIN:STANDARD
TZOFFSETFROM:-0500
TZOFFSETTO:-0600
TZNAME:CST
DTSTART:20271107T070000
END:STANDARD
BEGIN:DAYLIGHT
TZOFFSETFROM:-0600
TZOFFSETTO:-0500
TZNAME:CDT
DTSTART:20280312T080000
END:DAYLIGHT
BEGIN:STANDARD
TZOFFSETFROM:-0500
TZOFFSETTO:-0600
TZNAME:CST
DTSTART:20281105T070000
END:STANDARD
BEGIN:DAYLIGHT
TZOFFSETFROM:-0600
TZOFFSETTO:-0500
TZNAME:CDT
DTSTART:20290311T080000
END:DAYLIGHT
BEGIN:STANDARD
TZOFFSETFROM:-0500
TZOFFSETTO:-0600
TZNAME:CST
DTSTART:20291104T070000
END:STANDARD
END:VTIMEZONE
BEGIN:VEVENT
DTSTART;TZID=America/Chicago:20281212T100000
DTEND;TZID=America/Chicago:20281213T200000
DTSTAMP:20260420T092607
CREATED:20210617T184111Z
LAST-MODIFIED:20260402T185528Z
UID:10000451-1860228000-1860350400@teststaging.dfwcrafts.com
SUMMARY:Get featured today
DESCRIPTION:Stop scrolls and catch more eyes with a Platinum Listing. Unlock bonus features across social media and dfwcrafts.com\, including joining the featured events promos rotating across DFW Craft Shows! \nGet started today\n\n\nLooking for events to vend or attend?  Head over to the main events page.
URL:https://teststaging.dfwcrafts.com/event/your-event-could-be-featured-here/
LOCATION:DFW Craft Shows\, Dallas\, TX\, United States
CATEGORIES:Fine Arts Only,General Arts & Crafts,Handmade & Vintage Only,Handmade Only
ATTACH;FMTTYPE=image/jpeg:https://teststaging.dfwcrafts.com/wp-content/uploads/2021/06/DFWCS_Events_header_Opt.jpg
ORGANIZER;CN="DFW Craft Shows":MAILTO:dfwcraftshows@gmail.com
GEO:31.9685988;-99.9018131
END:VEVENT
END:VCALENDAR