BEGIN:VCALENDAR
VERSION:2.0
PRODID:-//DFW Craft Shows - ECPv6.15.17.1//NONSGML v1.0//EN
CALSCALE:GREGORIAN
METHOD:PUBLISH
X-ORIGINAL-URL:https://teststaging.dfwcrafts.com
X-WR-CALDESC:Events for DFW Craft Shows
REFRESH-INTERVAL;VALUE=DURATION:PT1H
X-Robots-Tag:noindex
X-PUBLISHED-TTL:PT1H
BEGIN:VTIMEZONE
TZID:America/Chicago
BEGIN:DAYLIGHT
TZOFFSETFROM:-0600
TZOFFSETTO:-0500
TZNAME:CDT
DTSTART:20250309T080000
END:DAYLIGHT
BEGIN:STANDARD
TZOFFSETFROM:-0500
TZOFFSETTO:-0600
TZNAME:CST
DTSTART:20251102T070000
END:STANDARD
BEGIN:DAYLIGHT
TZOFFSETFROM:-0600
TZOFFSETTO:-0500
TZNAME:CDT
DTSTART:20260308T080000
END:DAYLIGHT
BEGIN:STANDARD
TZOFFSETFROM:-0500
TZOFFSETTO:-0600
TZNAME:CST
DTSTART:20261101T070000
END:STANDARD
BEGIN:DAYLIGHT
TZOFFSETFROM:-0600
TZOFFSETTO:-0500
TZNAME:CDT
DTSTART:20270314T080000
END:DAYLIGHT
BEGIN:STANDARD
TZOFFSETFROM:-0500
TZOFFSETTO:-0600
TZNAME:CST
DTSTART:20271107T070000
END:STANDARD
END:VTIMEZONE
BEGIN:VEVENT
DTSTART;TZID=America/Chicago:20260507T180000
DTEND;TZID=America/Chicago:20260510T160000
DTSTAMP:20260419T171435
CREATED:20260409T183834Z
LAST-MODIFIED:20260409T183834Z
UID:10002116-1778176800-1778428800@teststaging.dfwcrafts.com
SUMMARY:The Craft Guild Spring Show & Sale
DESCRIPTION:The Craft Guild Spring Show & Sale (May 7–10\, 2026)\nDiscover unique\, handcrafted art at The Craft Guild’s annual Spring Show & Sale in Carrollton\, TX. This free\, four-day event features work from talented local artists across a variety of mediums\, including jewelry\, glass\, pottery\, fiber arts\, painting\, woodworking and more. \nShop one-of-a-kind pieces\, meet the artists\, and enjoy a welcoming\, creative atmosphere. Guests are also invited to tour The Craft Guild’s studios\, offering a behind-the-scenes look at where classes and creativity come to life. Don’t miss the Opening Night Reception with live music and light refreshments. \nHosted by The Craft Guild of Dallas\, a nonprofit supporting arts education since 1948\, this event is both a celebration of the local art community and an important fundraiser.
URL:https://teststaging.dfwcrafts.com/event/contemporary-crafts-fine-art-show-sale-2/
LOCATION:The Craft Guild of Dallas\, 3410 Midcourt Road Suite 115\, Carrollton\, TX\, 75006\, United States
CATEGORIES:Handmade Only
ATTACH;FMTTYPE=image/jpeg:https://teststaging.dfwcrafts.com/wp-content/uploads/2026/04/Spring-2026-1.jpg
GEO:32.9629937;-96.8428239
X-APPLE-STRUCTURED-LOCATION;VALUE=URI;X-ADDRESS=The Craft Guild of Dallas 3410 Midcourt Road Suite 115 Carrollton TX 75006 United States;X-APPLE-RADIUS=500;X-TITLE=3410 Midcourt Road Suite 115:geo:-96.8428239,32.9629937
END:VEVENT
BEGIN:VEVENT
DTSTART;TZID=America/Chicago:20260515T170000
DTEND;TZID=America/Chicago:20260517T180000
DTSTAMP:20260419T171435
CREATED:20260222T073837Z
LAST-MODIFIED:20260222T073837Z
UID:10002056-1778864400-1779040800@teststaging.dfwcrafts.com
SUMMARY:WataugaFest
DESCRIPTION:3 Days full of Fun with Carnival\, Live Music and entertainment\, vendors\, Food Trucks\, Wrestling.
URL:https://teststaging.dfwcrafts.com/event/wataugafest/
LOCATION:WataugaFest\, 5800 Robin Dr\, Watauga\, TX\, 76148\, United States
CATEGORIES:General Arts & Crafts
GEO:32.8785949;-97.2582057
X-APPLE-STRUCTURED-LOCATION;VALUE=URI;X-ADDRESS=WataugaFest 5800 Robin Dr Watauga TX 76148 United States;X-APPLE-RADIUS=500;X-TITLE=5800 Robin Dr:geo:-97.2582057,32.8785949
END:VEVENT
BEGIN:VEVENT
DTSTART;TZID=America/Chicago:20260516T083000
DTEND;TZID=America/Chicago:20260516T143000
DTSTAMP:20260419T171435
CREATED:20260215T055243Z
LAST-MODIFIED:20260215T055243Z
UID:10002045-1778920200-1778941800@teststaging.dfwcrafts.com
SUMMARY:Spring Fun Festival in Midlothian
DESCRIPTION:Come out and join us for our annual Spring Fun Festival at the Midlothian Civic Center on Saturday\, May 16th 2026 from 8:30a-2:30p. There will be vendors\, shopping\, food\, kids activities (face painter\, bean bag toss) and goodie bags *While supplies last! This a family friendly event! 🌻🌷
URL:https://teststaging.dfwcrafts.com/event/midlothian-spring-fun-festival/
LOCATION:Midlothian Civic Center\, 224 S 11th St\, Midlothian\, TX\, 76065\, United States
CATEGORIES:General Arts & Crafts
GEO:32.4801967;-96.9906882
X-APPLE-STRUCTURED-LOCATION;VALUE=URI;X-ADDRESS=Midlothian Civic Center 224 S 11th St Midlothian TX 76065 United States;X-APPLE-RADIUS=500;X-TITLE=224 S 11th St:geo:-96.9906882,32.4801967
END:VEVENT
BEGIN:VEVENT
DTSTART;TZID=America/Chicago:20260516T170000
DTEND;TZID=America/Chicago:20260516T220000
DTSTAMP:20260419T171435
CREATED:20260118T183951Z
LAST-MODIFIED:20260118T183951Z
UID:10002007-1778950800-1778968800@teststaging.dfwcrafts.com
SUMMARY:Artisan Market @ The Sound - 5/16
DESCRIPTION:Discover something new at Artisan Market @ The Sound. Shop a curated lineup of local makers\, artists\, and small businesses bringing handcrafted goods & one-of-a-kind finds you won’t see anywhere else. Enjoy lakeside views\, live music\, great food\, and the perfect spot to spend the day. \n🌅Beautiful Scenery\n🏞️Walking Trail\n🗿Art Displays\n🐾Dog Park Fun\n🍕Local Restaurants & Drinkeries\n🎤LIVE MUSIC! \n🦮Family & pet friendly event\n🎊FREE Admission for All Ages\n🛍️45+ Local Vendors!\n🎨Local Artists\n💍Handmade Jewelry\n🪵One-of-a-Kind Crafts\n🕯️Handmade Candles\n🍰Handmade Baked Goods\n🐕‍🦺Pet Products\n🎁& so much more! \nWe can’t wait to see you there!✨
URL:https://teststaging.dfwcrafts.com/event/artisan-market-the-sound-5/
LOCATION:The Sound at Cypress Waters\, 3111 Olympus Blvd\, Coppell\, TX\, 75019\, United States
CATEGORIES:General Arts & Crafts
GEO:32.9362111;-96.9842841
X-APPLE-STRUCTURED-LOCATION;VALUE=URI;X-ADDRESS=The Sound at Cypress Waters 3111 Olympus Blvd Coppell TX 75019 United States;X-APPLE-RADIUS=500;X-TITLE=3111 Olympus Blvd:geo:-96.9842841,32.9362111
END:VEVENT
BEGIN:VEVENT
DTSTART;TZID=America/Chicago:20260516T180000
DTEND;TZID=America/Chicago:20260516T220000
DTSTAMP:20260419T171435
CREATED:20260409T190010Z
LAST-MODIFIED:20260409T190329Z
UID:10002117-1778954400-1778968800@teststaging.dfwcrafts.com
SUMMARY:Spooky Southside Halfway to Halloween Pop-up
DESCRIPTION:Attention Art lovers\, Eccentrics\, Oddballs\, and everyone in between!\nGet ready for a Market like no other at the Fork Yard (AKA Auto Maxx Parking Lot) off Hemphill.\nIt’s going to be a good time filled with spooky vibes\, music\, local artisans\, creators and more. 🤘 \n✨ Event Highlights:\n🖼️ Artisan Market:\nExplore an eclectic mix of weird and wonderful treasures\, unique spooky art\, handcrafted jewelry\, and quirky creations from local artisans. 🛍️ \n🍔 Delicious Eats:\nSatisfy your hunger with mouthwatering bites from our food trucks. \n🎈 Fun & Games:\nGet into the spirit with glitter tattoos\, face painting\, and plenty of surprises throughout the evening! 🎉 \n🔥 Music:\nGet ready to vibe out to music from our resident DJ. An Electrifying performance will have you jammin all night long! 🎸 \n👻Costume Contest:\nShow off your spooky or cosplay outfits! \nEnter our costume contest for a chance to win exciting prizes and celebrate the magic of the night. \nDon’t miss out\, mark your calendars\, grab your friends\, and join us for a wickedly fun celebration you won’t forget! 🎶 \n👻Enjoy a spooky good time The Haunt House actors scare actors.
URL:https://teststaging.dfwcrafts.com/event/pg-southside-street-market-3/
LOCATION:The Fork Yard\, 2351 Hemphill St\, Fort Worth\, TX\, 76110\, United States
CATEGORIES:General Arts & Crafts
ATTACH;FMTTYPE=image/jpeg:https://teststaging.dfwcrafts.com/wp-content/uploads/2026/04/5.16.26-Halfway-to-Halloween-Market-Promo-.jpg
GEO:32.7170153;-97.3315909
X-APPLE-STRUCTURED-LOCATION;VALUE=URI;X-ADDRESS=The Fork Yard 2351 Hemphill St Fort Worth TX 76110 United States;X-APPLE-RADIUS=500;X-TITLE=2351 Hemphill St:geo:-97.3315909,32.7170153
END:VEVENT
END:VCALENDAR