BEGIN:VCALENDAR
VERSION:2.0
PRODID:-//DFW Craft Shows - ECPv6.15.17.1//NONSGML v1.0//EN
CALSCALE:GREGORIAN
METHOD:PUBLISH
X-ORIGINAL-URL:https://teststaging.dfwcrafts.com
X-WR-CALDESC:Events for DFW Craft Shows
REFRESH-INTERVAL;VALUE=DURATION:PT1H
X-Robots-Tag:noindex
X-PUBLISHED-TTL:PT1H
BEGIN:VTIMEZONE
TZID:America/Chicago
BEGIN:DAYLIGHT
TZOFFSETFROM:-0600
TZOFFSETTO:-0500
TZNAME:CDT
DTSTART:20250309T080000
END:DAYLIGHT
BEGIN:STANDARD
TZOFFSETFROM:-0500
TZOFFSETTO:-0600
TZNAME:CST
DTSTART:20251102T070000
END:STANDARD
BEGIN:DAYLIGHT
TZOFFSETFROM:-0600
TZOFFSETTO:-0500
TZNAME:CDT
DTSTART:20260308T080000
END:DAYLIGHT
BEGIN:STANDARD
TZOFFSETFROM:-0500
TZOFFSETTO:-0600
TZNAME:CST
DTSTART:20261101T070000
END:STANDARD
BEGIN:DAYLIGHT
TZOFFSETFROM:-0600
TZOFFSETTO:-0500
TZNAME:CDT
DTSTART:20270314T080000
END:DAYLIGHT
BEGIN:STANDARD
TZOFFSETFROM:-0500
TZOFFSETTO:-0600
TZNAME:CST
DTSTART:20271107T070000
END:STANDARD
END:VTIMEZONE
BEGIN:VEVENT
DTSTART;TZID=America/Chicago:20260515T170000
DTEND;TZID=America/Chicago:20260517T180000
DTSTAMP:20260419T183410
CREATED:20260222T073837Z
LAST-MODIFIED:20260222T073837Z
UID:10002056-1778864400-1779040800@teststaging.dfwcrafts.com
SUMMARY:WataugaFest
DESCRIPTION:3 Days full of Fun with Carnival\, Live Music and entertainment\, vendors\, Food Trucks\, Wrestling.
URL:https://teststaging.dfwcrafts.com/event/wataugafest/
LOCATION:WataugaFest\, 5800 Robin Dr\, Watauga\, TX\, 76148\, United States
CATEGORIES:General Arts & Crafts
GEO:32.8785949;-97.2582057
X-APPLE-STRUCTURED-LOCATION;VALUE=URI;X-ADDRESS=WataugaFest 5800 Robin Dr Watauga TX 76148 United States;X-APPLE-RADIUS=500;X-TITLE=5800 Robin Dr:geo:-97.2582057,32.8785949
END:VEVENT
BEGIN:VEVENT
DTSTART;TZID=America/Chicago:20260523T090000
DTEND;TZID=America/Chicago:20260523T160000
DTSTAMP:20260419T183410
CREATED:20251222T233006Z
LAST-MODIFIED:20251222T233006Z
UID:10001988-1779526800-1779552000@teststaging.dfwcrafts.com
SUMMARY:Shopping Days Vendor Market - Spring Edition in Plano\, TX
DESCRIPTION:Shop small and support local at the Shopping Days Vendor Market! 🛍️ \nA community-driven vendor market featuring local small businesses\, handmade goods\, unique finds\, music\, and giveaways. Family-friendly\, outdoor\, and free admission. \nHosted by Paola Ruiz Productions.
URL:https://teststaging.dfwcrafts.com/event/shopping-days-vendor-market-2/
LOCATION:Plano Event Center\, 2000 E Spring Creek Pkwy\, Plano\, TX\, 75074\, United States
CATEGORIES:General Arts & Crafts
ATTACH;FMTTYPE=image/jpeg:https://teststaging.dfwcrafts.com/wp-content/uploads/2025/12/PRP-OFFICIAL-Shopping-Days-Event-Posting-2024-Posters-22-Opt.jpg
GEO:33.0543282;-96.6845151
X-APPLE-STRUCTURED-LOCATION;VALUE=URI;X-ADDRESS=Plano Event Center 2000 E Spring Creek Pkwy Plano TX 75074 United States;X-APPLE-RADIUS=500;X-TITLE=2000 E Spring Creek Pkwy:geo:-96.6845151,33.0543282
END:VEVENT
END:VCALENDAR