BEGIN:VCALENDAR
VERSION:2.0
PRODID:-//DFW Craft Shows - ECPv6.15.17.1//NONSGML v1.0//EN
CALSCALE:GREGORIAN
METHOD:PUBLISH
X-ORIGINAL-URL:https://teststaging.dfwcrafts.com
X-WR-CALDESC:Events for DFW Craft Shows
REFRESH-INTERVAL;VALUE=DURATION:PT1H
X-Robots-Tag:noindex
X-PUBLISHED-TTL:PT1H
BEGIN:VTIMEZONE
TZID:America/Chicago
BEGIN:DAYLIGHT
TZOFFSETFROM:-0600
TZOFFSETTO:-0500
TZNAME:CDT
DTSTART:20250309T080000
END:DAYLIGHT
BEGIN:STANDARD
TZOFFSETFROM:-0500
TZOFFSETTO:-0600
TZNAME:CST
DTSTART:20251102T070000
END:STANDARD
BEGIN:DAYLIGHT
TZOFFSETFROM:-0600
TZOFFSETTO:-0500
TZNAME:CDT
DTSTART:20260308T080000
END:DAYLIGHT
BEGIN:STANDARD
TZOFFSETFROM:-0500
TZOFFSETTO:-0600
TZNAME:CST
DTSTART:20261101T070000
END:STANDARD
BEGIN:DAYLIGHT
TZOFFSETFROM:-0600
TZOFFSETTO:-0500
TZNAME:CDT
DTSTART:20270314T080000
END:DAYLIGHT
BEGIN:STANDARD
TZOFFSETFROM:-0500
TZOFFSETTO:-0600
TZNAME:CST
DTSTART:20271107T070000
END:STANDARD
END:VTIMEZONE
BEGIN:VEVENT
DTSTART;TZID=America/Chicago:20260620T090000
DTEND;TZID=America/Chicago:20260620T160000
DTSTAMP:20260419T200228
CREATED:20260106T045842Z
LAST-MODIFIED:20260323T033818Z
UID:10001996-1781946000-1781971200@teststaging.dfwcrafts.com
SUMMARY:Shopping Days Vendor Market - Summer Edition in Grapevine
DESCRIPTION:Shop small and support local at the Shopping Days Vendor Market! 🛍️\nA community-driven vendor market featuring local small businesses\, handmade goods\, unique finds\, music\, and giveaways. Family-friendly\, outdoor\, and free admission. Hosted by Paola Ruiz Productions.
URL:https://teststaging.dfwcrafts.com/event/shopping-days-vendor-market-4/
LOCATION:Grapevine Convention Center\, 1209 S. Main St.\, Grapevine\, TX\, 76051\, United States
CATEGORIES:General Arts & Crafts
ATTACH;FMTTYPE=image/jpeg:https://teststaging.dfwcrafts.com/wp-content/uploads/2026/01/PRP-OFFICIAL-Shopping-Days-Event-Posting-2024-Posters-19-Opt.jpg
GEO:32.9288899;-97.0763162
X-APPLE-STRUCTURED-LOCATION;VALUE=URI;X-ADDRESS=Grapevine Convention Center 1209 S. Main St. Grapevine TX 76051 United States;X-APPLE-RADIUS=500;X-TITLE=1209 S. Main St.:geo:-97.0763162,32.9288899
END:VEVENT
BEGIN:VEVENT
DTSTART;TZID=America/Chicago:20260620T170000
DTEND;TZID=America/Chicago:20260620T220000
DTSTAMP:20260419T200228
CREATED:20260124T061522Z
LAST-MODIFIED:20260124T061522Z
UID:10002014-1781974800-1781992800@teststaging.dfwcrafts.com
SUMMARY:Artisan Market @ The Sound - 6/20
DESCRIPTION:Discover something new at Artisan Market @ The Sound. Shop a curated lineup of local makers\, artists\, and small businesses bringing handcrafted goods & one-of-a-kind finds you won’t see anywhere else. Enjoy lakeside views\, live music\, great food\, and the perfect spot to spend the day. \n🌅Beautiful Scenery\n🏞️Walking Trail\n🗿Art Displays\n🐾Dog Park Fun\n🍕Local Restaurants & Drinkeries\n🎤LIVE MUSIC! \n🦮Family & pet friendly event\n🎊FREE Admission for All Ages\n🛍️45+ Local Vendors!\n🎨Local Artists\n💍Handmade Jewelry\n🪵One-of-a-Kind Crafts\n🕯️Handmade Candles\n🍰Handmade Baked Goods\n🐕‍🦺Pet Products\n🎁& so much more! \nWe can’t wait to see you there!✨
URL:https://teststaging.dfwcrafts.com/event/artisan-market-the-sound-7/
LOCATION:The Sound at Cypress Waters\, 3111 Olympus Blvd\, Coppell\, TX\, 75019\, United States
CATEGORIES:General Arts & Crafts
GEO:32.9362111;-96.9842841
X-APPLE-STRUCTURED-LOCATION;VALUE=URI;X-ADDRESS=The Sound at Cypress Waters 3111 Olympus Blvd Coppell TX 75019 United States;X-APPLE-RADIUS=500;X-TITLE=3111 Olympus Blvd:geo:-96.9842841,32.9362111
END:VEVENT
BEGIN:VEVENT
DTSTART;TZID=America/Chicago:20260620T180000
DTEND;TZID=America/Chicago:20260620T220000
DTSTAMP:20260419T200228
CREATED:20260411T234137Z
LAST-MODIFIED:20260411T234206Z
UID:10002118-1781978400-1781992800@teststaging.dfwcrafts.com
SUMMARY:Spooky Southside Summerween Pride Pop-up
DESCRIPTION:Attention Art lovers\, Queer friendly\, Eccentrics\, Oddballs\, and everyone in between! \nGet ready for a Market like no other at the Fork Yard (AKA Auto Maxx Parking Lot) off Hemphill.\nIt’s going to be a good time filled with witchy vibes\, music\, local artisans\, creators and more. \n✨ Event Highlights:\n🖼️ Artisan Market:\nExplore an eclectic mix of weird and wonderful treasures\, unique spooky art\, handcrafted jewelry\, and quirky creations from local artisans. \n🍔 Delicious Eats:\nSatisfy your hunger with mouthwatering bites from our food trucks. \n🎈 Fun & Games:\nGet into the spirit with glitter tattoos\, face painting\, and plenty of surprises throughout the evening! 🎉 \n🔥 Music:\nGet ready to vibe out to music from our resident DJ. An Electrifying performance will have you jammin all night long! 🎸 \n👻Costume Contest:\nShow off your spooky.pride or cosplay outfits! \nEnter our costume contest for a chance to win exciting prizes and celebrate the magic of the night.  Don’t miss out\, mark your calendars\, grab your friends\, and join us for a wickedly fun celebration you won’t forget! \n👻Enjoy a spooky good time The Haunt House actors scare actors.
URL:https://teststaging.dfwcrafts.com/event/pg-southside-street-market-4/
LOCATION:The Fork Yard\, 2351 Hemphill St\, Fort Worth\, TX\, 76110\, United States
CATEGORIES:General Arts & Crafts
ATTACH;FMTTYPE=image/jpeg:https://teststaging.dfwcrafts.com/wp-content/uploads/2026/04/6.20.26-Summerween-Pride-Market-Promo-.jpg
GEO:32.7170153;-97.3315909
X-APPLE-STRUCTURED-LOCATION;VALUE=URI;X-ADDRESS=The Fork Yard 2351 Hemphill St Fort Worth TX 76110 United States;X-APPLE-RADIUS=500;X-TITLE=2351 Hemphill St:geo:-97.3315909,32.7170153
END:VEVENT
END:VCALENDAR