BEGIN:VCALENDAR
VERSION:2.0
PRODID:-//DFW Craft Shows - ECPv6.15.17.1//NONSGML v1.0//EN
CALSCALE:GREGORIAN
METHOD:PUBLISH
X-WR-CALNAME:DFW Craft Shows
X-ORIGINAL-URL:https://teststaging.dfwcrafts.com
X-WR-CALDESC:Events for DFW Craft Shows
REFRESH-INTERVAL;VALUE=DURATION:PT1H
X-Robots-Tag:noindex
X-PUBLISHED-TTL:PT1H
BEGIN:VTIMEZONE
TZID:America/Chicago
BEGIN:DAYLIGHT
TZOFFSETFROM:-0600
TZOFFSETTO:-0500
TZNAME:CDT
DTSTART:20250309T080000
END:DAYLIGHT
BEGIN:STANDARD
TZOFFSETFROM:-0500
TZOFFSETTO:-0600
TZNAME:CST
DTSTART:20251102T070000
END:STANDARD
BEGIN:DAYLIGHT
TZOFFSETFROM:-0600
TZOFFSETTO:-0500
TZNAME:CDT
DTSTART:20260308T080000
END:DAYLIGHT
BEGIN:STANDARD
TZOFFSETFROM:-0500
TZOFFSETTO:-0600
TZNAME:CST
DTSTART:20261101T070000
END:STANDARD
BEGIN:DAYLIGHT
TZOFFSETFROM:-0600
TZOFFSETTO:-0500
TZNAME:CDT
DTSTART:20270314T080000
END:DAYLIGHT
BEGIN:STANDARD
TZOFFSETFROM:-0500
TZOFFSETTO:-0600
TZNAME:CST
DTSTART:20271107T070000
END:STANDARD
END:VTIMEZONE
BEGIN:VEVENT
DTSTART;TZID=America/Chicago:20260912T090000
DTEND;TZID=America/Chicago:20260912T160000
DTSTAMP:20260420T081011
CREATED:20260117T060345Z
LAST-MODIFIED:20260117T060345Z
UID:10002003-1789203600-1789228800@teststaging.dfwcrafts.com
SUMMARY:Shopping Days Vendor Market - Fall Edition in Longview
DESCRIPTION:Shop small and support local at the Shopping Days Vendor Market! 🛍️ \nA community-driven vendor market featuring local small businesses\, handmade goods\, unique finds\, music\, and giveaways. Family-friendly\, outdoor\, and free admission. \nHosted by Paola Ruiz Productions.
URL:https://teststaging.dfwcrafts.com/event/shopping-days-vendor-market-6/
LOCATION:Maude Cobb Convention Center\, 100 Grand Boulevard\, Longview\, TX\, 75604\, United States
CATEGORIES:General Arts & Crafts
ATTACH;FMTTYPE=image/jpeg:https://teststaging.dfwcrafts.com/wp-content/uploads/2026/01/PRP-OFFICIAL-Shopping-Days-Event-Posting-Sept-2026-Opt.jpg
GEO:32.4934585;-94.759121
X-APPLE-STRUCTURED-LOCATION;VALUE=URI;X-ADDRESS=Maude Cobb Convention Center 100 Grand Boulevard Longview TX 75604 United States;X-APPLE-RADIUS=500;X-TITLE=100 Grand Boulevard:geo:-94.759121,32.4934585
END:VEVENT
END:VCALENDAR